BEGIN:VCALENDAR
VERSION:2.0
PRODID:-//Chinese Outreach Edmonton - ECPv4.6.20.1//NONSGML v1.0//EN
CALSCALE:GREGORIAN
METHOD:PUBLISH
X-WR-CALNAME:Chinese Outreach Edmonton
X-ORIGINAL-URL:https://chineseoutreach.ca
X-WR-CALDESC:Events for Chinese Outreach Edmonton
BEGIN:VEVENT
DTSTART;TZID=America/Edmonton:20190316T130000
DTEND;TZID=America/Edmonton:20190316T150000
DTSTAMP:20260422T050128
CREATED:20190227T194043Z
LAST-MODIFIED:20190227T195303Z
UID:14215-1552741200-1552748400@chineseoutreach.ca
SUMMARY:如何申报海外资产和应对税务查询专题讲座-WORLD INCOME
DESCRIPTION: \n
URL:https://chineseoutreach.ca/event/world_income/
LOCATION:9649 - 105A Avenue\, Edmonton\, AB\, Canada
CATEGORIES:Community
ATTACH;FMTTYPE=image/jpeg:https://chineseoutreach.ca/wp-content/uploads/2019/02/ASSIST_world_income_logo.jpg
END:VEVENT
END:VCALENDAR