BEGIN:VCALENDAR
VERSION:2.0
PRODID:-//Chinese Outreach Edmonton - ECPv4.6.20.1//NONSGML v1.0//EN
CALSCALE:GREGORIAN
METHOD:PUBLISH
X-WR-CALNAME:Chinese Outreach Edmonton
X-ORIGINAL-URL:https://chineseoutreach.ca
X-WR-CALDESC:Events for Chinese Outreach Edmonton
BEGIN:VEVENT
DTSTART;TZID=America/Edmonton:20190126T140000
DTEND;TZID=America/Edmonton:20190126T153000
DTSTAMP:20260422T064137
CREATED:20190121T231313Z
LAST-MODIFIED:20190121T232422Z
UID:14128-1548511200-1548516600@chineseoutreach.ca
SUMMARY:你是個一百分父母?
DESCRIPTION:
URL:https://chineseoutreach.ca/event/super-parent/
LOCATION:106 Lakeside Landing 15379 Castle Downs Rd\, Edmonton\, Alberta\, T5N 3G1\, Canada
CATEGORIES:Community
ATTACH;FMTTYPE=image/jpeg:https://chineseoutreach.ca/wp-content/uploads/2019/01/2019-01-26-Edm_Parent_Manadarin_Crop.jpg
END:VEVENT
END:VCALENDAR