BEGIN:VCALENDAR
VERSION:2.0
PRODID:-//Chinese Outreach Edmonton - ECPv4.6.20.1//NONSGML v1.0//EN
CALSCALE:GREGORIAN
METHOD:PUBLISH
X-WR-CALNAME:Chinese Outreach Edmonton
X-ORIGINAL-URL:https://chineseoutreach.ca
X-WR-CALDESC:Events for Chinese Outreach Edmonton
BEGIN:VEVENT
DTSTART;TZID=America/Edmonton:20181126T140000
DTEND;TZID=America/Edmonton:20181126T160000
DTSTAMP:20260422T064410
CREATED:20181114T222628Z
LAST-MODIFIED:20181114T233603Z
UID:14093-1543240800-1543248000@chineseoutreach.ca
SUMMARY:愛城餐飲業福音團契 - 從勞碌到平安
DESCRIPTION: \n
URL:https://chineseoutreach.ca/event/restaurant-mission/
LOCATION:10969 98 street\, Edmonton\, Alberta\, Canada
CATEGORIES:Community
ATTACH;FMTTYPE=image/jpeg:https://chineseoutreach.ca/wp-content/uploads/2018/11/restaurant_mission_20181126logo.jpg
ORGANIZER;CN="%E6%84%9B%E5%9F%8E%E8%8F%AF%E4%BA%BA%E5%9F%BA%E7%9D%A3%E6%95%99%E6%95%99%E7%89%A7%E5%90%8C%E5%B7%A5%E5%9C%98%E5%A5%91":MAILTO:cpfe.edm@gmail.com
END:VEVENT
END:VCALENDAR