BEGIN:VCALENDAR
VERSION:2.0
PRODID:-//Chinese Outreach Edmonton - ECPv4.6.20.1//NONSGML v1.0//EN
CALSCALE:GREGORIAN
METHOD:PUBLISH
X-WR-CALNAME:Chinese Outreach Edmonton
X-ORIGINAL-URL:https://chineseoutreach.ca
X-WR-CALDESC:Events for Chinese Outreach Edmonton
BEGIN:VEVENT
DTSTART;TZID=America/Edmonton:20240210T090000
DTEND;TZID=America/Edmonton:20240330T103000
DTSTAMP:20260421T221401
CREATED:20240124T185537Z
LAST-MODIFIED:20240124T185902Z
UID:14711-1707555600-1711794600@chineseoutreach.ca
SUMMARY:Online Disciple Training
DESCRIPTION:Please register at Missionway@yahoo.com \n
URL:https://chineseoutreach.ca/event/online-disciple-training/
CATEGORIES:Church,Community
ATTACH;FMTTYPE=image/jpeg:https://chineseoutreach.ca/wp-content/uploads/2018/12/CCM_20181201-1.jpg
END:VEVENT
END:VCALENDAR