BEGIN:VCALENDAR
VERSION:2.0
PRODID:-//Chinese Outreach Edmonton - ECPv4.6.20.1//NONSGML v1.0//EN
CALSCALE:GREGORIAN
METHOD:PUBLISH
X-WR-CALNAME:Chinese Outreach Edmonton
X-ORIGINAL-URL:https://chineseoutreach.ca
X-WR-CALDESC:Events for Chinese Outreach Edmonton
BEGIN:VEVENT
DTSTART;TZID=America/Edmonton:20181102T190000
DTEND;TZID=America/Edmonton:20181104T203000
DTSTAMP:20260422T082417
CREATED:20180925T201632Z
LAST-MODIFIED:20180925T203040Z
UID:13738-1541185200-1541363400@chineseoutreach.ca
SUMMARY:天國情宣教心
DESCRIPTION: \n
URL:https://chineseoutreach.ca/event/mission-fest-two-2/
LOCATION:5019 - 199 Ave NW\,\, Edmonton\,\, Alberta\, Canada
CATEGORIES:Church
ATTACH;FMTTYPE=image/jpeg:https://chineseoutreach.ca/wp-content/uploads/2018/09/mission_fest_logo.jpg
END:VEVENT
END:VCALENDAR