BEGIN:VCALENDAR
VERSION:2.0
PRODID:-//Chinese Outreach Edmonton - ECPv4.6.20.1//NONSGML v1.0//EN
CALSCALE:GREGORIAN
METHOD:PUBLISH
X-WR-CALNAME:Chinese Outreach Edmonton
X-ORIGINAL-URL:https://chineseoutreach.ca
X-WR-CALDESC:Events for Chinese Outreach Edmonton
BEGIN:VEVENT
DTSTART;TZID=America/Edmonton:20181103T120000
DTEND;TZID=America/Edmonton:20181104T203000
DTSTAMP:20260422T064527
CREATED:20180925T202945Z
LAST-MODIFIED:20180925T203722Z
UID:13743-1541246400-1541363400@chineseoutreach.ca
SUMMARY:愛城華人基督教宣教節
DESCRIPTION:\n \n
URL:https://chineseoutreach.ca/event/mission-fest-one/
LOCATION:5019 - 199 Ave NW\,\, Edmonton\,\, Alberta\, Canada
CATEGORIES:Church
ATTACH;FMTTYPE=image/jpeg:https://chineseoutreach.ca/wp-content/uploads/2018/09/mission_fest_logo_1.jpg
END:VEVENT
END:VCALENDAR