BEGIN:VCALENDAR
VERSION:2.0
PRODID:-//Chinese Outreach Edmonton - ECPv4.6.20.1//NONSGML v1.0//EN
CALSCALE:GREGORIAN
METHOD:PUBLISH
X-WR-CALNAME:Chinese Outreach Edmonton
X-ORIGINAL-URL:https://chineseoutreach.ca
X-WR-CALDESC:Events for Chinese Outreach Edmonton
BEGIN:VEVENT
DTSTART;TZID=America/Edmonton:20190319T130000
DTEND;TZID=America/Edmonton:20190319T150000
DTSTAMP:20260422T045857
CREATED:20190227T192750Z
LAST-MODIFIED:20190227T195416Z
UID:14213-1553000400-1553007600@chineseoutreach.ca
SUMMARY:园艺系列课堂 - 亞省蔬菜栽培方法
DESCRIPTION: \n
URL:https://chineseoutreach.ca/event/garden_alberta_vegetable/
LOCATION:9649 - 105A Avenue\, Edmonton\, AB\, Canada
CATEGORIES:Community
ATTACH;FMTTYPE=image/jpeg:https://chineseoutreach.ca/wp-content/uploads/2018/07/Gardening2.jpg
END:VEVENT
END:VCALENDAR