BEGIN:VCALENDAR
VERSION:2.0
PRODID:-//Chinese Outreach Edmonton - ECPv4.6.20.1//NONSGML v1.0//EN
CALSCALE:GREGORIAN
METHOD:PUBLISH
X-WR-CALNAME:Chinese Outreach Edmonton
X-ORIGINAL-URL:https://chineseoutreach.ca
X-WR-CALDESC:Events for Chinese Outreach Edmonton
BEGIN:VEVENT
DTSTART;TZID=America/Edmonton:20190122T130000
DTEND;TZID=America/Edmonton:20190122T150000
DTSTAMP:20260422T064229
CREATED:20181101T204939Z
LAST-MODIFIED:20181101T205930Z
UID:14055-1548162000-1548169200@chineseoutreach.ca
SUMMARY:园艺系列课堂 - Alberta 果樹介紹
DESCRIPTION: \n
URL:https://chineseoutreach.ca/event/garden_alberta_tree/
LOCATION:9649 - 105A Avenue\, Edmonton\, AB\, Canada
CATEGORIES:Community
ATTACH;FMTTYPE=image/jpeg:https://chineseoutreach.ca/wp-content/uploads/2018/07/Gardening2.jpg
END:VEVENT
END:VCALENDAR