BEGIN:VCALENDAR
VERSION:2.0
PRODID:-//Chinese Outreach Edmonton - ECPv4.6.20.1//NONSGML v1.0//EN
CALSCALE:GREGORIAN
METHOD:PUBLISH
X-WR-CALNAME:Chinese Outreach Edmonton
X-ORIGINAL-URL:https://chineseoutreach.ca
X-WR-CALDESC:Events for Chinese Outreach Edmonton
BEGIN:VEVENT
DTSTART;VALUE=DATE:20220205
DTEND;VALUE=DATE:20220206
DTSTAMP:20260422T050058
CREATED:20220125T143508Z
LAST-MODIFIED:20220125T143508Z
UID:14255-1644019200-1644105599@chineseoutreach.ca
SUMMARY:2022愛韻之友賀新春
DESCRIPTION: \n
URL:https://chineseoutreach.ca/event/evangelism_dinner_190604-2/
CATEGORIES:Church,Community
ATTACH;FMTTYPE=image/jpeg:https://chineseoutreach.ca/wp-content/uploads/2022/01/ecgo.jpg
END:VEVENT
END:VCALENDAR