BEGIN:VCALENDAR
VERSION:2.0
PRODID:-//Chinese Outreach Edmonton - ECPv4.6.20.1//NONSGML v1.0//EN
CALSCALE:GREGORIAN
METHOD:PUBLISH
X-WR-CALNAME:Chinese Outreach Edmonton
X-ORIGINAL-URL:https://chineseoutreach.ca
X-WR-CALDESC:Events for Chinese Outreach Edmonton
BEGIN:VEVENT
DTSTART;VALUE=DATE:20220829
DTEND;VALUE=DATE:20220830
DTSTAMP:20260422T031535
CREATED:20220803T165031Z
LAST-MODIFIED:20220803T165249Z
UID:14457-1661731200-1661817599@chineseoutreach.ca
SUMMARY:Covid 19 之轉疫為安
DESCRIPTION:
URL:https://chineseoutreach.ca/event/evangelism_dinner_190604-2-2-2-4-2-2-2-2/
CATEGORIES:Church,Community
ATTACH;FMTTYPE=image/jpeg:https://chineseoutreach.ca/wp-content/uploads/2022/08/resturantministryIMG-20220612-WA0018.jpg
END:VEVENT
END:VCALENDAR