BEGIN:VCALENDAR
VERSION:2.0
PRODID:-//Chinese Outreach Edmonton - ECPv4.6.20.1//NONSGML v1.0//EN
CALSCALE:GREGORIAN
METHOD:PUBLISH
X-WR-CALNAME:Chinese Outreach Edmonton
X-ORIGINAL-URL:https://chineseoutreach.ca
X-WR-CALDESC:Events for Chinese Outreach Edmonton
BEGIN:VEVENT
DTSTART;VALUE=DATE:20221117
DTEND;VALUE=DATE:20221121
DTSTAMP:20260422T013410
CREATED:20221009T233929Z
LAST-MODIFIED:20221119T152022Z
UID:14518-1668643200-1668988799@chineseoutreach.ca
SUMMARY:疫轉乾坤  音樂佈道會 你有苦難   我有平安
DESCRIPTION:
URL:https://chineseoutreach.ca/event/evangelism_dinner_190604-2-2-2-4-2-2-2-2-3-2-3-2-2-2-2/
CATEGORIES:Church,Community
ATTACH;FMTTYPE=image/jpeg:https://chineseoutreach.ca/wp-content/uploads/2022/10/calgaryresturant-WA0006.jpg
END:VEVENT
END:VCALENDAR