BEGIN:VCALENDAR
VERSION:2.0
PRODID:-//Chinese Outreach Edmonton - ECPv4.6.20.1//NONSGML v1.0//EN
CALSCALE:GREGORIAN
METHOD:PUBLISH
X-WR-CALNAME:Chinese Outreach Edmonton
X-ORIGINAL-URL:https://chineseoutreach.ca
X-WR-CALDESC:Events for Chinese Outreach Edmonton
BEGIN:VEVENT
DTSTART;TZID=America/Edmonton:20230109T140000
DTEND;TZID=America/Edmonton:20230223T150000
DTSTAMP:20260422T013555
CREATED:20221211T212924Z
LAST-MODIFIED:20221211T212924Z
UID:14542-1673272800-1677164400@chineseoutreach.ca
SUMMARY:精神復元
DESCRIPTION:
URL:https://chineseoutreach.ca/event/evangelism_dinner_190604-2-2-2-4-2-2-2-2-3-2-3-2-2-2-2-3-2/
CATEGORIES:Church,Community
ATTACH;FMTTYPE=image/jpeg:https://chineseoutreach.ca/wp-content/uploads/2022/12/精神復元_00.jpg
END:VEVENT
END:VCALENDAR