BEGIN:VCALENDAR
VERSION:2.0
PRODID:-//Chinese Outreach Edmonton - ECPv4.6.20.1//NONSGML v1.0//EN
CALSCALE:GREGORIAN
METHOD:PUBLISH
X-WR-CALNAME:Chinese Outreach Edmonton
X-ORIGINAL-URL:https://chineseoutreach.ca
X-WR-CALDESC:Events for Chinese Outreach Edmonton
BEGIN:VEVENT
DTSTART;TZID=America/Edmonton:20230204T133000
DTEND;TZID=America/Edmonton:20230204T153000
DTSTAMP:20260422T013626
CREATED:20221228T181307Z
LAST-MODIFIED:20221228T181307Z
UID:14548-1675517400-1675524600@chineseoutreach.ca
SUMMARY:愛韻同歡慶元宵
DESCRIPTION:
URL:https://chineseoutreach.ca/event/evangelism_dinner_190604-2-2-2-4-2-2-2-2-3-2-3-2-2-2-2-3-2-2/
CATEGORIES:Church,Community
ATTACH;FMTTYPE=image/jpeg:https://chineseoutreach.ca/wp-content/uploads/2022/12/ecgo20230204Slide1.jpg
END:VEVENT
END:VCALENDAR