BEGIN:VCALENDAR
VERSION:2.0
PRODID:-//Chinese Outreach Edmonton - ECPv4.6.20.1//NONSGML v1.0//EN
CALSCALE:GREGORIAN
METHOD:PUBLISH
X-WR-CALNAME:Chinese Outreach Edmonton
X-ORIGINAL-URL:https://chineseoutreach.ca
X-WR-CALDESC:Events for Chinese Outreach Edmonton
BEGIN:VEVENT
DTSTART;TZID=America/Edmonton:20230304T100000
DTEND;TZID=America/Edmonton:20230401T113000
DTSTAMP:20260422T013749
CREATED:20230212T213942Z
LAST-MODIFIED:20230212T213942Z
UID:14563-1677924000-1680348600@chineseoutreach.ca
SUMMARY:陪伴幼兒走過焦慮的路
DESCRIPTION:
URL:https://chineseoutreach.ca/event/evangelism_dinner_190604-2-2-2-4-2-2-2-2-3-2-3-2-2-2-2-3-2-2-3-2/
CATEGORIES:Church,Community
ATTACH;FMTTYPE=image/jpeg:https://chineseoutreach.ca/wp-content/uploads/2023/02/mar4-FE_child-anxiety_poster_2023OTLKCCMAR4_00.jpg
END:VEVENT
END:VCALENDAR