BEGIN:VCALENDAR
VERSION:2.0
PRODID:-//Chinese Outreach Edmonton - ECPv4.6.20.1//NONSGML v1.0//EN
CALSCALE:GREGORIAN
METHOD:PUBLISH
X-WR-CALNAME:Chinese Outreach Edmonton
X-ORIGINAL-URL:https://chineseoutreach.ca
X-WR-CALDESC:Events for Chinese Outreach Edmonton
BEGIN:VEVENT
DTSTART;TZID=America/Edmonton:20230503T130000
DTEND;TZID=America/Edmonton:20230531T140000
DTSTAMP:20260421T235132
CREATED:20230415T021951Z
LAST-MODIFIED:20230415T021951Z
UID:14571-1683118800-1685541600@chineseoutreach.ca
SUMMARY:精神保健
DESCRIPTION:
URL:https://chineseoutreach.ca/event/evangelism_dinner_190604-2-2-2-4-2-2-2-2-3-2-3-2-2-2-2-3-2-2-3-2-2-2/
CATEGORIES:Church,Community
ATTACH;FMTTYPE=image/jpeg:https://chineseoutreach.ca/wp-content/uploads/2023/04/WE_Poster-11x17_2023OCRSECA_MAY3_00.jpg
END:VEVENT
END:VCALENDAR