BEGIN:VCALENDAR
VERSION:2.0
PRODID:-//Chinese Outreach Edmonton - ECPv4.6.20.1//NONSGML v1.0//EN
CALSCALE:GREGORIAN
METHOD:PUBLISH
X-WR-CALNAME:Chinese Outreach Edmonton
X-ORIGINAL-URL:https://chineseoutreach.ca
X-WR-CALDESC:Events for Chinese Outreach Edmonton
BEGIN:VEVENT
DTSTART;TZID=America/Edmonton:20230527T100000
DTEND;TZID=America/Edmonton:20230627T113000
DTSTAMP:20260421T235154
CREATED:20230506T130853Z
LAST-MODIFIED:20230506T130853Z
UID:14577-1685181600-1687865400@chineseoutreach.ca
SUMMARY:孩子發脾氣點算?
DESCRIPTION:
URL:https://chineseoutreach.ca/event/evangelism_dinner_190604-2-2-2-4-2-2-2-2-3-2-3-2-2-2-2-3-2-2-3-2-2-2-2/
CATEGORIES:Church,Community
ATTACH;FMTTYPE=image/jpeg:https://chineseoutreach.ca/wp-content/uploads/2023/05/How-to-handle-Your-Childs-Temper-Tantrum_poster_2023TLKCZMAY27-1_00.jpg
END:VEVENT
END:VCALENDAR