BEGIN:VCALENDAR
VERSION:2.0
PRODID:-//Chinese Outreach Edmonton - ECPv4.6.20.1//NONSGML v1.0//EN
CALSCALE:GREGORIAN
METHOD:PUBLISH
X-WR-CALNAME:Chinese Outreach Edmonton
X-ORIGINAL-URL:https://chineseoutreach.ca
X-WR-CALDESC:Events for Chinese Outreach Edmonton
BEGIN:VEVENT
DTSTART;TZID=America/Edmonton:20230616T100000
DTEND;TZID=America/Edmonton:20230616T113000
DTSTAMP:20260422T000310
CREATED:20230520T005310Z
LAST-MODIFIED:20230520T005310Z
UID:14586-1686909600-1686915000@chineseoutreach.ca
SUMMARY:黃金歲月的憂與慮
DESCRIPTION:
URL:https://chineseoutreach.ca/event/evangelism_dinner_190604-2-2-2-4-2-2-2-2-3-2-3-2-2-2-2-3-2-2-3-2-2-2-2-2/
CATEGORIES:Church,Community
ATTACH;FMTTYPE=image/jpeg:https://chineseoutreach.ca/wp-content/uploads/2023/05/Facing-the-Worries-of-Golden-Years_Poster_2023TLKEEJUN16-1_00.jpg
END:VEVENT
END:VCALENDAR