BEGIN:VCALENDAR
VERSION:2.0
PRODID:-//Chinese Outreach Edmonton - ECPv4.6.20.1//NONSGML v1.0//EN
CALSCALE:GREGORIAN
METHOD:PUBLISH
X-WR-CALNAME:Chinese Outreach Edmonton
X-ORIGINAL-URL:https://chineseoutreach.ca
X-WR-CALDESC:Events for Chinese Outreach Edmonton
BEGIN:VEVENT
DTSTART;TZID=America/Edmonton:20230624T133000
DTEND;TZID=America/Edmonton:20230624T153000
DTSTAMP:20260421T235236
CREATED:20230520T005930Z
LAST-MODIFIED:20230520T005930Z
UID:14589-1687613400-1687620600@chineseoutreach.ca
SUMMARY:古道重尋之人生列車
DESCRIPTION:
URL:https://chineseoutreach.ca/event/evangelism_dinner_190604-2-2-2-4-2-2-2-2-3-2-3-2-2-2-2-3-2-2-3-2-2-2-2-2-2/
CATEGORIES:Church,Community
ATTACH;FMTTYPE=image/jpeg:https://chineseoutreach.ca/wp-content/uploads/2023/05/IMG-20230427-WA0001.jpg
END:VEVENT
END:VCALENDAR