BEGIN:VCALENDAR
VERSION:2.0
PRODID:-//Chinese Outreach Edmonton - ECPv4.6.20.1//NONSGML v1.0//EN
CALSCALE:GREGORIAN
METHOD:PUBLISH
X-WR-CALNAME:Chinese Outreach Edmonton
X-ORIGINAL-URL:https://chineseoutreach.ca
X-WR-CALDESC:Events for Chinese Outreach Edmonton
BEGIN:VEVENT
DTSTART;TZID=America/Edmonton:20231109T140000
DTEND;TZID=America/Edmonton:20231214T153000
DTSTAMP:20260422T000034
CREATED:20230915T015247Z
LAST-MODIFIED:20230915T015247Z
UID:14651-1699538400-1702567800@chineseoutreach.ca
SUMMARY:精神康恢
DESCRIPTION:
URL:https://chineseoutreach.ca/event/evangelism_dinner_190604-2-2-2-4-2-2-2-2-3-2-3-2-2-2-2-3-2-2-3-2-2-2-2-2-2-2-3/
CATEGORIES:Church,Community
ATTACH;FMTTYPE=image/jpeg:https://chineseoutreach.ca/wp-content/uploads/2023/09/MH_P1_poster_11x17_2023_OCRSEC_Nov09_00.jpg
END:VEVENT
END:VCALENDAR