BEGIN:VCALENDAR
VERSION:2.0
PRODID:-//Chinese Outreach Edmonton - ECPv4.6.20.1//NONSGML v1.0//EN
CALSCALE:GREGORIAN
METHOD:PUBLISH
X-WR-CALNAME:Chinese Outreach Edmonton
X-ORIGINAL-URL:https://chineseoutreach.ca
X-WR-CALDESC:Events for Chinese Outreach Edmonton
BEGIN:VEVENT
DTSTART;TZID=America/Edmonton:20231115T110000
DTEND;TZID=America/Edmonton:20231213T121500
DTSTAMP:20260422T000315
CREATED:20231013T155403Z
LAST-MODIFIED:20231013T155403Z
UID:14666-1700046000-1702469700@chineseoutreach.ca
SUMMARY:精神保健
DESCRIPTION:
URL:https://chineseoutreach.ca/event/evangelism_dinner_190604-2-2-2-4-2-2-2-2-3-2-3-2-2-2-2-3-2-2-3-2-2-2-2-2-2-2-3-3/
CATEGORIES:Church,Community
ATTACH;FMTTYPE=image/jpeg:https://chineseoutreach.ca/wp-content/uploads/2023/10/WE_poster_11x17_2023OCRSEC_NOV15_00.jpg
END:VEVENT
END:VCALENDAR