BEGIN:VCALENDAR
VERSION:2.0
PRODID:-//Chinese Outreach Edmonton - ECPv4.6.20.1//NONSGML v1.0//EN
CALSCALE:GREGORIAN
METHOD:PUBLISH
X-WR-CALNAME:Chinese Outreach Edmonton
X-ORIGINAL-URL:https://chineseoutreach.ca
X-WR-CALDESC:Events for Chinese Outreach Edmonton
BEGIN:VEVENT
DTSTART;TZID=America/Edmonton:20240227T100000
DTEND;TZID=America/Edmonton:20240227T113000
DTSTAMP:20260421T222109
CREATED:20240215T031446Z
LAST-MODIFIED:20240215T031446Z
UID:14722-1709028000-1709033400@chineseoutreach.ca
SUMMARY:如何幫助有將殊需要的兒童改善溝通
DESCRIPTION:
URL:https://chineseoutreach.ca/event/evangelism_dinner_190604-2-2-2-4-2-2-2-2-3-2-3-2-2-2-2-3-2-2-3-2-2-2-2-2-2-2-3-3-2-4-2/
CATEGORIES:Church,Community
ATTACH;FMTTYPE=image/jpeg:https://chineseoutreach.ca/wp-content/uploads/2024/02/Children-improve-communication_Poster_2024OTLKCZ_Feb27_00.jpg
END:VEVENT
END:VCALENDAR