BEGIN:VCALENDAR
VERSION:2.0
PRODID:-//Chinese Outreach Edmonton - ECPv4.6.20.1//NONSGML v1.0//EN
CALSCALE:GREGORIAN
METHOD:PUBLISH
X-WR-CALNAME:Chinese Outreach Edmonton
X-ORIGINAL-URL:https://chineseoutreach.ca
X-WR-CALDESC:Events for Chinese Outreach Edmonton
BEGIN:VEVENT
DTSTART;TZID=America/Edmonton:20240615T100000
DTEND;TZID=America/Edmonton:20240615T113000
DTSTAMP:20260421T204833
CREATED:20240526T185100Z
LAST-MODIFIED:20240526T185100Z
UID:14906-1718445600-1718451000@chineseoutreach.ca
SUMMARY:愛很難、不愛更難"照顧長期病患者講座
DESCRIPTION:
URL:https://chineseoutreach.ca/event/evangelism_dinner_190604-2-2-2-4-2-2-2-2-3-2-3-2-2-2-2-3-2-2-3-2-2-2-2-2-2-2-3-3-2-4-2-2-2-2-2/
CATEGORIES:Church,Community
ATTACH;FMTTYPE=image/jpeg:https://chineseoutreach.ca/wp-content/uploads/2024/05/Talk-for-Caregviers_Poster_2024OTLK_EC_JUN15_00.jpg
END:VEVENT
END:VCALENDAR