BEGIN:VCALENDAR
VERSION:2.0
PRODID:-//Chinese Outreach Edmonton - ECPv4.6.20.1//NONSGML v1.0//EN
CALSCALE:GREGORIAN
METHOD:PUBLISH
X-WR-CALNAME:Chinese Outreach Edmonton
X-ORIGINAL-URL:https://chineseoutreach.ca
X-WR-CALDESC:Events for Chinese Outreach Edmonton
BEGIN:VEVENT
DTSTART;TZID=America/Edmonton:20250305T103000
DTEND;TZID=America/Edmonton:20250528T120000
DTSTAMP:20260421T190035
CREATED:20250208T034647Z
LAST-MODIFIED:20250208T034647Z
UID:15025-1741170600-1748433600@chineseoutreach.ca
SUMMARY:表達有事藝術有事
DESCRIPTION:
URL:https://chineseoutreach.ca/event/evangelism_dinner_190604-2-2-2-4-2-2-2-2-3-2-3-2-2-2-2-3-2-2-3-2-2-2-2-2-2-2-3-3-2-4-2-2-2-2-2-3-2-2-3-2-3-3-2/
CATEGORIES:Church,Community
ATTACH;FMTTYPE=image/jpeg:https://chineseoutreach.ca/wp-content/uploads/2025/02/EXA_Poster_2025OCRS_CI_MAR05-1_00.jpg
END:VEVENT
END:VCALENDAR