BEGIN:VCALENDAR
VERSION:2.0
PRODID:-//Chinese Outreach Edmonton - ECPv4.6.20.1//NONSGML v1.0//EN
CALSCALE:GREGORIAN
METHOD:PUBLISH
X-WR-CALNAME:Chinese Outreach Edmonton
X-ORIGINAL-URL:https://chineseoutreach.ca
X-WR-CALDESC:Events for Chinese Outreach Edmonton
BEGIN:VEVENT
DTSTART;TZID=America/Edmonton:20250419T143000
DTEND;TZID=America/Edmonton:20250419T153000
DTSTAMP:20260421T190149
CREATED:20250410T152032Z
LAST-MODIFIED:20250410T152032Z
UID:15047-1745073000-1745076600@chineseoutreach.ca
SUMMARY:長者健康講座
DESCRIPTION:
URL:https://chineseoutreach.ca/event/evangelism_dinner_190604-2-2-2-4-2-2-2-2-3-2-3-2-2-2-2-3-2-2-3-2-2-2-2-2-2-2-3-3-2-4-2-2-2-2-2-3-2-2-3-2-3-3-2-2-3-2/
CATEGORIES:Church,Community
ATTACH;FMTTYPE=image/jpeg:https://chineseoutreach.ca/wp-content/uploads/2025/04/IMG-20250409-WA0001.jpg
END:VEVENT
END:VCALENDAR