BEGIN:VCALENDAR
VERSION:2.0
PRODID:-//Chinese Outreach Edmonton - ECPv4.6.20.1//NONSGML v1.0//EN
CALSCALE:GREGORIAN
METHOD:PUBLISH
X-WR-CALNAME:Chinese Outreach Edmonton
X-ORIGINAL-URL:https://chineseoutreach.ca
X-WR-CALDESC:Events for Chinese Outreach Edmonton
BEGIN:VEVENT
DTSTART;TZID=America/Edmonton:20250605T180000
DTEND;TZID=America/Edmonton:20250605T213000
DTSTAMP:20260421T192911
CREATED:20250602T144326Z
LAST-MODIFIED:20250602T144326Z
UID:15055-1749146400-1749159000@chineseoutreach.ca
SUMMARY:诸天述说
DESCRIPTION:
URL:https://chineseoutreach.ca/event/evangelism_dinner_190604-2-2-2-4-2-2-2-2-3-2-3-2-2-2-2-3-2-2-3-2-2-2-2-2-2-2-3-3-2-4-2-2-2-2-2-3-2-2-3-2-3-3-2-2-3-2-2/
CATEGORIES:Church,Community
ATTACH;FMTTYPE=image/jpeg:https://chineseoutreach.ca/wp-content/uploads/2025/06/202506IMG-20250527-WA0015.jpg
END:VEVENT
END:VCALENDAR