BEGIN:VCALENDAR
VERSION:2.0
PRODID:-//Chinese Outreach Edmonton - ECPv4.6.20.1//NONSGML v1.0//EN
CALSCALE:GREGORIAN
METHOD:PUBLISH
X-WR-CALNAME:Chinese Outreach Edmonton
X-ORIGINAL-URL:https://chineseoutreach.ca
X-WR-CALDESC:Events for Chinese Outreach Edmonton
BEGIN:VEVENT
DTSTART;TZID=America/Edmonton:20240601T160000
DTEND;TZID=America/Edmonton:20240601T180000
DTSTAMP:20260421T204935
CREATED:20240527T225104Z
LAST-MODIFIED:20240527T225104Z
UID:14910-1717257600-1717264800@chineseoutreach.ca
SUMMARY:愛韻之友(端午及父親節聚會)
DESCRIPTION:
URL:https://chineseoutreach.ca/event/evangelism_dinner_190604-2-2-2-4-2-2-2-2-3-2-3-2-2-2-2-3-2-2-3-2-2-2-2-2-2-2-3-3-2-4-2-2-2-2-2-2/
CATEGORIES:Church,Community
ATTACH;FMTTYPE=image/jpeg:https://chineseoutreach.ca/wp-content/uploads/2024/05/June-1-2024.jpg
END:VEVENT
END:VCALENDAR