BEGIN:VCALENDAR
VERSION:2.0
PRODID:-//Chinese Outreach Edmonton - ECPv4.6.20.1//NONSGML v1.0//EN
CALSCALE:GREGORIAN
METHOD:PUBLISH
X-WR-CALNAME:Chinese Outreach Edmonton
X-ORIGINAL-URL:https://chineseoutreach.ca
X-WR-CALDESC:Events for Chinese Outreach Edmonton
BEGIN:VEVENT
DTSTART;TZID=America/Edmonton:20240127T100000
DTEND;TZID=America/Edmonton:20240127T113000
DTSTAMP:20260421T222109
CREATED:20240106T154407Z
LAST-MODIFIED:20240106T154407Z
UID:14698-1706349600-1706355000@chineseoutreach.ca
SUMMARY:成瘾行為
DESCRIPTION:
URL:https://chineseoutreach.ca/event/evangelism_dinner_190604-2-2-2-4-2-2-2-2-3-2-3-2-2-2-2-3-2-2-3-2-2-2-2-2-2-2-3-3-2-3/
CATEGORIES:Church,Community
ATTACH;FMTTYPE=image/jpeg:https://chineseoutreach.ca/wp-content/uploads/2024/01/Addicition_poster_2024OTLKCA_JAN27_00.jpg
END:VEVENT
END:VCALENDAR