BEGIN:VCALENDAR
VERSION:2.0
PRODID:-//Chinese Outreach Edmonton - ECPv4.6.20.1//NONSGML v1.0//EN
CALSCALE:GREGORIAN
METHOD:PUBLISH
X-WR-CALNAME:Chinese Outreach Edmonton
X-ORIGINAL-URL:https://chineseoutreach.ca
X-WR-CALDESC:Events for Chinese Outreach Edmonton
BEGIN:VEVENT
DTSTART;TZID=America/Edmonton:20240206T083000
DTEND;TZID=America/Edmonton:20240326T093000
DTSTAMP:20260421T222130
CREATED:20240124T183252Z
LAST-MODIFIED:20240124T184237Z
UID:14705-1707208200-1711445400@chineseoutreach.ca
SUMMARY:綫上國語門徒培訓
DESCRIPTION:Date: Feb 6 to Mar 26 8-9:30 am or 7-8:30 pm\nRegister at  Missionway@yahoo.com \n
URL:https://chineseoutreach.ca/event/evangelism_dinner_190604-2-2-2-4-2-2-2-2-3-2-3-2-2-2-2-3-2-2-3-2-2-2-2-2-2-2-3-3-2-3-2/
CATEGORIES:Church,Community
ATTACH;FMTTYPE=image/jpeg:https://chineseoutreach.ca/wp-content/uploads/2018/12/CCM_20181201.jpg
END:VEVENT
END:VCALENDAR