BEGIN:VCALENDAR
VERSION:2.0
PRODID:-//Chinese Outreach Edmonton - ECPv4.6.20.1//NONSGML v1.0//EN
CALSCALE:GREGORIAN
METHOD:PUBLISH
X-WR-CALNAME:Chinese Outreach Edmonton
X-ORIGINAL-URL:https://chineseoutreach.ca
X-WR-CALDESC:Events for Chinese Outreach Edmonton
BEGIN:VEVENT
DTSTART;TZID=America/Edmonton:20230128T100000
DTEND;TZID=America/Edmonton:20230204T113000
DTSTAMP:20260422T013652
CREATED:20230107T040413Z
LAST-MODIFIED:20230107T040413Z
UID:14552-1674900000-1675510200@chineseoutreach.ca
SUMMARY:成癮行為
DESCRIPTION:
URL:https://chineseoutreach.ca/event/evangelism_dinner_190604-2-2-2-4-2-2-2-2-3-2-3-2-2-2-2-3-2-2-2/
CATEGORIES:Church,Community
ATTACH;FMTTYPE=image/jpeg:https://chineseoutreach.ca/wp-content/uploads/2023/01/Addicition_Poster_2023OTLKCAJAN28FEB5_00.jpg
END:VEVENT
END:VCALENDAR