BEGIN:VCALENDAR
VERSION:2.0
PRODID:-//Chinese Outreach Edmonton - ECPv4.6.20.1//NONSGML v1.0//EN
CALSCALE:GREGORIAN
METHOD:PUBLISH
X-WR-CALNAME:Chinese Outreach Edmonton
X-ORIGINAL-URL:https://chineseoutreach.ca
X-WR-CALDESC:Events for Chinese Outreach Edmonton
BEGIN:VEVENT
DTSTART;TZID=America/Edmonton:20221119T020000
DTEND;TZID=America/Edmonton:20221119T040000
DTSTAMP:20260422T013440
CREATED:20221024T232408Z
LAST-MODIFIED:20221024T232408Z
UID:14528-1668823200-1668830400@chineseoutreach.ca
SUMMARY:媽媽自我照顧(工作坊2)
DESCRIPTION:
URL:https://chineseoutreach.ca/event/evangelism_dinner_190604-2-2-2-4-2-2-2-2-3-2-3-2-2-2-2-2/
CATEGORIES:Church,Community
ATTACH;FMTTYPE=image/jpeg:https://chineseoutreach.ca/wp-content/uploads/2022/10/111922MH_2022CRSECNOV19_POSTER_8.5x11_00.jpg
END:VEVENT
END:VCALENDAR