BEGIN:VCALENDAR
VERSION:2.0
PRODID:-//Chinese Outreach Edmonton - ECPv4.6.20.1//NONSGML v1.0//EN
CALSCALE:GREGORIAN
METHOD:PUBLISH
X-WR-CALNAME:Chinese Outreach Edmonton
X-ORIGINAL-URL:https://chineseoutreach.ca
X-WR-CALDESC:Events for Chinese Outreach Edmonton
BEGIN:VEVENT
DTSTART;VALUE=DATE:20220402
DTEND;VALUE=DATE:20220403
DTSTAMP:20260422T050252
CREATED:20220227T011011Z
LAST-MODIFIED:20220323T161307Z
UID:14372-1648857600-1648943999@chineseoutreach.ca
SUMMARY:Lord's grace
DESCRIPTION:
URL:https://chineseoutreach.ca/event/evangelism_dinner_190604-2-2-2-3/
CATEGORIES:Church,Community
ATTACH;FMTTYPE=image/jpeg:https://chineseoutreach.ca/wp-content/uploads/2022/02/ecgo-Easter-20220402-poster_00.jpg
END:VEVENT
END:VCALENDAR