BEGIN:VCALENDAR
VERSION:2.0
PRODID:-//Chinese Outreach Edmonton - ECPv4.6.20.1//NONSGML v1.0//EN
CALSCALE:GREGORIAN
METHOD:PUBLISH
X-WR-CALNAME:Chinese Outreach Edmonton
X-ORIGINAL-URL:https://chineseoutreach.ca
X-WR-CALDESC:Events for Chinese Outreach Edmonton
BEGIN:VEVENT
DTSTART;TZID=America/Edmonton:20190603T220000
DTEND;TZID=America/Edmonton:20190604T000000
DTSTAMP:20260422T045912
CREATED:20190228T193614Z
LAST-MODIFIED:20190228T193655Z
UID:14246-1559599200-1559606400@chineseoutreach.ca
SUMMARY:笑傲江湖 - 主出美味人生
DESCRIPTION: \n
URL:https://chineseoutreach.ca/event/evangelism_dinner/
LOCATION:10638 - 100 St.\, NW\, Edmonton\, Alberta\, Canada
CATEGORIES:Church,Community
ATTACH;FMTTYPE=image/jpeg:https://chineseoutreach.ca/wp-content/uploads/2019/02/20190603-04-Evangelism-dinner-logo1.jpg
END:VEVENT
END:VCALENDAR