BEGIN:VCALENDAR
VERSION:2.0
PRODID:-//Chinese Outreach Edmonton - ECPv4.6.20.1//NONSGML v1.0//EN
CALSCALE:GREGORIAN
METHOD:PUBLISH
X-WR-CALNAME:Chinese Outreach Edmonton
X-ORIGINAL-URL:https://chineseoutreach.ca
X-WR-CALDESC:Events for Chinese Outreach Edmonton
BEGIN:VEVENT
DTSTART;TZID=America/Toronto:20180609T130000
DTEND;TZID=America/Toronto:20180609T160000
DTSTAMP:20260422T095954
CREATED:20180502T204352Z
LAST-MODIFIED:20180502T204352Z
UID:12833-1528549200-1528560000@chineseoutreach.ca
SUMMARY:购房面面观 - 华人社区服务中心
DESCRIPTION:对于许多新移民或首次买房的居民来说，选择和购买一间理想居所，是一件颇具挑战的事情。当您在考虑买房子的时候，您对购房的信息和流程有足够的了解吗？目前是买房子的好时机吗？新移民买房和贷款有优惠吗？华人社区服务中心之移民安顿服务项目特别邀资深房地产专员，为您讲解有关信息。 \n讲座日期2018年6月9日 (星期六)下午1:00－4:00， \n在华人社区服务中心总部（9649-105A Ave）， \n国语主讲，费用全免。 \n内容包括:\n资金与预算 – 首付、房贷 、利率\n房屋户型、面积、新旧、地点的选择; \n专业人员的协助 – 房产、贷款经纪人、律师、验房师、保险\n买卖房屋的费用-  律师费、验房费、保险费\n爱城房产行情* \n市政府“首次置业计划”介绍 \n名额有限，请致電780-429-3111 報名登记。 \n*参加者于出席时提供枫叶卡或移民纸复印件\, 已入籍者请提供公民卡复印件。 \n
URL:https://chineseoutreach.ca/event/%e8%b4%ad%e6%88%bf%e9%9d%a2%e9%9d%a2%e8%a7%82-%e5%8d%8e%e4%ba%ba%e7%a4%be%e5%8c%ba%e6%9c%8d%e5%8a%a1%e4%b8%ad%e5%bf%83/
LOCATION:9649 - 105A Avenue\, Edmonton\, AB\, Canada
CATEGORIES:Community
ATTACH;FMTTYPE=image/jpeg:https://chineseoutreach.ca/wp-content/uploads/2018/05/HomeBuying.jpg
END:VEVENT
END:VCALENDAR