BEGIN:VCALENDAR
VERSION:2.0
PRODID:-//Chinese Outreach Edmonton - ECPv4.6.20.1//NONSGML v1.0//EN
CALSCALE:GREGORIAN
METHOD:PUBLISH
X-WR-CALNAME:Chinese Outreach Edmonton
X-ORIGINAL-URL:https://chineseoutreach.ca
X-WR-CALDESC:Events for Chinese Outreach Edmonton
BEGIN:VEVENT
DTSTART;TZID=America/Toronto:20180516T130000
DTEND;TZID=America/Toronto:20180516T150000
DTSTAMP:20260422T101025
CREATED:20180507T220915Z
LAST-MODIFIED:20180507T221827Z
UID:12906-1526475600-1526482800@chineseoutreach.ca
SUMMARY:开办家庭美食作坊 - ASSIST 西南办公室
DESCRIPTION:您喜欢烹饪吗？是否曾想过将这爱好变成您的职业呢？ASSIST Community Services Centre 西南办公室特邀请到阿尔伯塔省健康服务部的相关人员，为您详细介绍开办家庭美食作坊所需的要求及条件。 \n讲座面向： 永久居民/受保护人士/持有工签的住家保姆 \n讲座内容： \n•所需的执照\n•获得食品操作许可的基本要求\n•开办家庭美食作坊的步骤!\n•常见的问题及解答 \n讲座日期：周三，2018年5月16日\n讲座时间： 下午1:00pm – 3:00pm\n讲座语言：英语（普通话翻译）\n讲座地址：ASSIST 西南办公室 （810 Saddleback Road\, Edmonton\, AB\, T6J 4W4\n免费停车\n酌情提供公交车票\n免费WiFi \n报名方式：\n电话： 780-429-3119\nEmail: fei.huang@assistcsc.org \n前来参加讲座时，请携带您的枫叶卡或登陆纸。 \n免责声明：讲座或活动中涉及到的信息、见解或观点均属于主讲人，不代表ASSIST Community Services Centre的观点和立场。 \n
URL:https://chineseoutreach.ca/event/%e5%bc%80%e5%8a%9e%e5%ae%b6%e5%ba%ad%e7%be%8e%e9%a3%9f%e4%bd%9c%e5%9d%8a-assist-%e8%a5%bf%e5%8d%97%e5%8a%9e%e5%85%ac%e5%ae%a4/
LOCATION:810 Saddleback Road\,\, Edmonton\, Alberta\, T6J 4W4\, Canada
CATEGORIES:Community
ATTACH;FMTTYPE=image/jpeg:https://chineseoutreach.ca/wp-content/uploads/2018/05/HomeFoodBusiness.jpg
END:VEVENT
END:VCALENDAR