BEGIN:VCALENDAR
VERSION:2.0
PRODID:-//Chinese Outreach Edmonton - ECPv4.6.20.1//NONSGML v1.0//EN
CALSCALE:GREGORIAN
METHOD:PUBLISH
X-WR-CALNAME:Chinese Outreach Edmonton
X-ORIGINAL-URL:https://chineseoutreach.ca
X-WR-CALDESC:Events for Chinese Outreach Edmonton
BEGIN:VEVENT
DTSTART;TZID=America/Toronto:20180512T103000
DTEND;TZID=America/Toronto:20180512T120000
DTSTAMP:20260422T100804
CREATED:20180507T222322Z
LAST-MODIFIED:20180507T222459Z
UID:12911-1526121000-1526126400@chineseoutreach.ca
SUMMARY:工作技能培训讲座之Outlook 2016 - 华人社区服务中心
DESCRIPTION:一场90分钟专设的培训，涵盖基本到高级功能的运用。 \n您是否在工作上经常需要用Outlook? 您是否想了解如何运用Outlook收发邮件？您还知道关于Outlook的其他用途吗？您是否想了解最新版本的新加的功能？或者您只想重新温故Outlook的使用？华人社区服务中心邀请了来自Microsoft的代表为我们专场免费提供培训。 \n提供培训证书！ \n讲座日期2018年5月12日(星期六)，上午时10:30am－中午12:00pm，在West Edmonton Mall 里面的Microsoft Store (一楼溜冰场旁) 1723\, 8882 170 Street，英语主讲，费用全免。 \n名额有限，必须提前报名！ 仅限永久居民！ \n请打780-429-3111 ext 315/330/316报名 \n*联邦政府资助规定：初次参加活动者请于出席活动时提供移民纸复印件一份 \n
URL:https://chineseoutreach.ca/event/%e5%b7%a5%e4%bd%9c%e6%8a%80%e8%83%bd%e5%9f%b9%e8%ae%ad%e8%ae%b2%e5%ba%a7%e4%b9%8boutlook-2016-%e5%8d%8e%e4%ba%ba%e7%a4%be%e5%8c%ba%e6%9c%8d%e5%8a%a1%e4%b8%ad%e5%bf%83/
LOCATION:1723\, 8882 170 Street\, Edmonton\, Alberta\, Canada
CATEGORIES:Community
ATTACH;FMTTYPE=image/jpeg:https://chineseoutreach.ca/wp-content/uploads/2018/05/ASSISY_Outlook.jpg
END:VEVENT
END:VCALENDAR