BEGIN:VCALENDAR
VERSION:2.0
PRODID:-//Chinese Outreach Edmonton - ECPv4.6.20.1//NONSGML v1.0//EN
CALSCALE:GREGORIAN
METHOD:PUBLISH
X-WR-CALNAME:Chinese Outreach Edmonton
X-ORIGINAL-URL:https://chineseoutreach.ca
X-WR-CALDESC:Events for Chinese Outreach Edmonton
BEGIN:VEVENT
DTSTART;TZID=America/Edmonton:20180317T133000
DTEND;TZID=America/Edmonton:20180317T153000
DTSTAMP:20260422T115403
CREATED:20180315T174846Z
LAST-MODIFIED:20180315T180029Z
UID:12459-1521293400-1521300600@chineseoutreach.ca
SUMMARY:如何申报海外资产和应对税务局查询讲座
DESCRIPTION:您了解加拿大的税务制度吗？您有海外资产吗? 您在海外有工作收入吗？您在海外有投资收益吗？您在海外有退休金吗？您知道海外资产的种类吗? 您知道如何应对税务局的调查和填表吗？新的报税季节即将开始，您想知道如何申报海外资产吗？华人社区服务中心现邀请了一位专业人士为大家讲解有关如何申报海外资产的讲座，并解答大家的问题。 \n日期: 2018年3月17日 星期六\n时间:下午1:30pm－3:30pm\n地点:华人社区服务中心 (9649-105A Ave.)\n语言:国语 \n讲座内容包括:\n• 加拿大税务制度\n• 海外资产的定义和种类\n• 解析海外资产申报表\n• 新移民如何申报海外资产\n• 如何申报海外收入\n• 接到税务局的询问丶调查或罚单\n• 如何处理 \n注意:初次参加活动者请于出席时提供移民纸，枫叶卡影印本。 \n报名或谘询请致电：780-429-3111 \n
URL:https://chineseoutreach.ca/event/%e5%a6%82%e4%bd%95%e7%94%b3%e6%8a%a5%e6%b5%b7%e5%a4%96%e8%b5%84%e4%ba%a7%e5%92%8c%e5%ba%94%e5%af%b9%e7%a8%8e%e5%8a%a1%e5%b1%80%e6%9f%a5%e8%af%a2%e8%ae%b2%e5%ba%a7/
LOCATION:9649 - 105A Avenue\, Edmonton\, AB\, Canada
CATEGORIES:Community
END:VEVENT
END:VCALENDAR