BEGIN:VCALENDAR
VERSION:2.0
PRODID:-//Chinese Outreach Edmonton - ECPv4.6.20.1//NONSGML v1.0//EN
CALSCALE:GREGORIAN
METHOD:PUBLISH
X-WR-CALNAME:Chinese Outreach Edmonton
X-ORIGINAL-URL:https://chineseoutreach.ca
X-WR-CALDESC:Events for Chinese Outreach Edmonton
BEGIN:VEVENT
DTSTART;TZID=America/Edmonton:20180717T130000
DTEND;TZID=America/Edmonton:20180717T150000
DTSTAMP:20260422T083216
CREATED:20180410T202117Z
LAST-MODIFIED:20180710T172725Z
UID:12657-1531832400-1531839600@chineseoutreach.ca
SUMMARY:园艺系列课堂 - 欧式、中式及和式庭院的不同介绍
DESCRIPTION:华人社区服务中心开设的园艺系列讲座受到了广泛的好评，我们将继续开设园艺系列课堂。本课程将每月举办一期，提供由浅入深，适合各种不同季节渐进传授的园艺知识。上课地点位于华人社区服务中心市中心， 我们有幸继续邀请到林学专家林永吉先生（Eugene Lin）根据多年园艺经验，结合爱民顿的气候及植物特点进行讲授。期待有助各位建造自己的美丽庭园，融入小区，有益健康同时修身养性。 \n逢星期二下午1:00至3:00\n华人社区服务中心总部（9649-105A Ave）举行， \n讲题分别为\n2018年7月17日 欧式、中式及和式庭院的不同介绍；\n2018年8月21日 省力又环保的庭院设计和施工要领；\n2018年9月11日 入冬前园艺事，\n国语主讲，英语简译，费用全免。 \n名额有限！欢迎有兴趣之人士亲临社区或致电780-429-3111报名留位。谢谢合作！ \n
URL:https://chineseoutreach.ca/event/%e5%9b%ad%e8%89%ba%e7%b3%bb%e5%88%97%e8%af%be%e5%a0%82-%e6%ac%a7%e5%bc%8f%e3%80%81%e4%b8%ad%e5%bc%8f%e5%8f%8a%e5%92%8c%e5%bc%8f%e5%ba%ad%e9%99%a2%e7%9a%84%e4%b8%8d%e5%90%8c%e4%bb%8b%e7%bb%8d/
LOCATION:9649 - 105A Avenue\, Edmonton\, AB\, Canada
CATEGORIES:Community
ATTACH;FMTTYPE=image/jpeg:https://chineseoutreach.ca/wp-content/uploads/2018/04/Gardening.jpg
END:VEVENT
END:VCALENDAR