BEGIN:VCALENDAR
VERSION:2.0
PRODID:-//Chinese Outreach Edmonton - ECPv4.6.20.1//NONSGML v1.0//EN
CALSCALE:GREGORIAN
METHOD:PUBLISH
X-WR-CALNAME:Chinese Outreach Edmonton
X-ORIGINAL-URL:https://chineseoutreach.ca
X-WR-CALDESC:Events for Chinese Outreach Edmonton
BEGIN:VEVENT
DTSTART;TZID=America/Toronto:20250906T140000
DTEND;TZID=America/Toronto:20250906T160000
DTSTAMP:20260421T173154
CREATED:20250805T144758Z
LAST-MODIFIED:20250805T144758Z
UID:15108-1757167200-1757174400@chineseoutreach.ca
SUMMARY:古道重尋茶啡父恩情
DESCRIPTION:
URL:https://chineseoutreach.ca/event/%e5%8f%a4%e9%81%93%e9%87%8d%e5%b0%8b%e8%8c%b6%e5%95%a1%e7%88%b6%e6%81%a9%e6%83%85/
ATTACH;FMTTYPE=image/jpeg:https://chineseoutreach.ca/wp-content/uploads/2025/08/20250906IMG-20250721-WA0011.jpg
END:VEVENT
END:VCALENDAR