BEGIN:VCALENDAR
VERSION:2.0
PRODID:-//Chinese Outreach Edmonton - ECPv4.6.20.1//NONSGML v1.0//EN
CALSCALE:GREGORIAN
METHOD:PUBLISH
X-WR-CALNAME:Chinese Outreach Edmonton
X-ORIGINAL-URL:https://chineseoutreach.ca
X-WR-CALDESC:Events for Chinese Outreach Edmonton
BEGIN:VEVENT
DTSTART;TZID=America/Toronto:20250911T183000
DTEND;TZID=America/Toronto:20250911T203000
DTSTAMP:20260421T173101
CREATED:20250813T002700Z
LAST-MODIFIED:20250813T002700Z
UID:15116-1757615400-1757622600@chineseoutreach.ca
SUMMARY:阿省醫療系統使用指南
DESCRIPTION:
URL:https://chineseoutreach.ca/event/%e5%8f%a4%e9%81%93%e9%87%8d%e5%b0%8b%e8%8c%b6%e5%95%a1%e7%88%b6%e6%81%a9%e6%83%85-2/
ATTACH;FMTTYPE=image/jpeg:https://chineseoutreach.ca/wp-content/uploads/2025/08/Navigating-the-Health-Care_PPTX_2025OTLK_EC_SEP11-1.jpg
END:VEVENT
END:VCALENDAR