BEGIN:VCALENDAR
VERSION:2.0
PRODID:-//Chinese Outreach Edmonton - ECPv4.6.20.1//NONSGML v1.0//EN
CALSCALE:GREGORIAN
METHOD:PUBLISH
X-WR-CALNAME:Chinese Outreach Edmonton
X-ORIGINAL-URL:https://chineseoutreach.ca
X-WR-CALDESC:Events for Chinese Outreach Edmonton
BEGIN:VEVENT
DTSTART;TZID=America/Toronto:20260228T100000
DTEND;TZID=America/Toronto:20260228T120000
DTSTAMP:20260421T154709
CREATED:20260208T233812Z
LAST-MODIFIED:20260208T234229Z
UID:15182-1772272800-1772280000@chineseoutreach.ca
SUMMARY:壓力舒緩
DESCRIPTION:
URL:https://chineseoutreach.ca/event/%e5%8f%a4%e9%81%93%e9%87%8d%e5%b0%8b%e8%8c%b6%e5%95%a1%e7%88%b6%e6%81%a9%e6%83%85-2-4-3-2-2-2/
ATTACH;FMTTYPE=image/jpeg:https://chineseoutreach.ca/wp-content/uploads/2026/02/D-Stress_PPTX_2026OTLK_EE_FEB28.jpg
END:VEVENT
END:VCALENDAR