BEGIN:VCALENDAR
VERSION:2.0
PRODID:-//Chinese Outreach Edmonton - ECPv4.6.20.1//NONSGML v1.0//EN
CALSCALE:GREGORIAN
METHOD:PUBLISH
X-WR-CALNAME:Chinese Outreach Edmonton
X-ORIGINAL-URL:https://chineseoutreach.ca
X-WR-CALDESC:Events for Chinese Outreach Edmonton
BEGIN:VEVENT
DTSTART;TZID=America/Toronto:20250829T193000
DTEND;TZID=America/Toronto:20250829T210000
DTSTAMP:20260421T173224
CREATED:20250815T141640Z
LAST-MODIFIED:20250815T142209Z
UID:15123-1756495800-1756501200@chineseoutreach.ca
SUMMARY:爱的真谛
DESCRIPTION:
URL:https://chineseoutreach.ca/event/%e5%8f%a4%e9%81%93%e9%87%8d%e5%b0%8b%e8%8c%b6%e5%95%a1%e7%88%b6%e6%81%a9%e6%83%85-2-3/
ATTACH;FMTTYPE=image/jpeg:https://chineseoutreach.ca/wp-content/uploads/2025/08/LFC-E3-2025.08.29-爱的真谛.jpg
END:VEVENT
END:VCALENDAR