BEGIN:VCALENDAR
VERSION:2.0
PRODID:-//Chinese Outreach Edmonton - ECPv4.6.20.1//NONSGML v1.0//EN
CALSCALE:GREGORIAN
METHOD:PUBLISH
X-WR-CALNAME:Chinese Outreach Edmonton
X-ORIGINAL-URL:https://chineseoutreach.ca
X-WR-CALDESC:Events for Chinese Outreach Edmonton
BEGIN:VEVENT
DTSTART;TZID=America/Toronto:20180827T140000
DTEND;TZID=America/Toronto:20180827T160000
DTSTAMP:20260422T083057
CREATED:20180808T195748Z
LAST-MODIFIED:20180808T200434Z
UID:13429-1535378400-1535385600@chineseoutreach.ca
SUMMARY:中西醫健康講座佈道餐會
DESCRIPTION: \n
URL:https://chineseoutreach.ca/event/%e4%b8%ad%e8%a5%bf%e9%86%ab%e5%81%a5%e5%ba%b7%e8%ac%9b%e5%ba%a7%e4%bd%88%e9%81%93%e9%a4%90%e6%9c%83/
LOCATION:#206\, 9700 - 105 Ave\, Edmonton\, AB\, Canada
CATEGORIES:Church
ATTACH;FMTTYPE=image/jpeg:https://chineseoutreach.ca/wp-content/uploads/2018/08/cpfeheart.jpg
ORGANIZER;CN="%E6%84%9B%E5%9F%8E%E8%8F%AF%E4%BA%BA%E5%9F%BA%E7%9D%A3%E6%95%99%E6%95%99%E7%89%A7%E5%90%8C%E5%B7%A5%E5%9C%98%E5%A5%91":MAILTO:cpfe.edm@gmail.com
END:VEVENT
END:VCALENDAR